BEGIN:VCALENDAR
VERSION:2.0
PRODID:-//SIBCR - ECPv6.15.20//NONSGML v1.0//EN
CALSCALE:GREGORIAN
METHOD:PUBLISH
X-WR-CALNAME:SIBCR
X-ORIGINAL-URL:https://sibcr.ro
X-WR-CALDESC:Evenimente pentru SIBCR
REFRESH-INTERVAL;VALUE=DURATION:PT1H
X-Robots-Tag:noindex
X-PUBLISHED-TTL:PT1H
BEGIN:VTIMEZONE
TZID:Europe/Bucharest
BEGIN:DAYLIGHT
TZOFFSETFROM:+0200
TZOFFSETTO:+0300
TZNAME:EEST
DTSTART:20250330T010000
END:DAYLIGHT
BEGIN:STANDARD
TZOFFSETFROM:+0300
TZOFFSETTO:+0200
TZNAME:EET
DTSTART:20251026T010000
END:STANDARD
BEGIN:DAYLIGHT
TZOFFSETFROM:+0200
TZOFFSETTO:+0300
TZNAME:EEST
DTSTART:20260329T010000
END:DAYLIGHT
BEGIN:STANDARD
TZOFFSETFROM:+0300
TZOFFSETTO:+0200
TZNAME:EET
DTSTART:20261025T010000
END:STANDARD
BEGIN:DAYLIGHT
TZOFFSETFROM:+0200
TZOFFSETTO:+0300
TZNAME:EEST
DTSTART:20270328T010000
END:DAYLIGHT
BEGIN:STANDARD
TZOFFSETFROM:+0300
TZOFFSETTO:+0200
TZNAME:EET
DTSTART:20271031T010000
END:STANDARD
END:VTIMEZONE
BEGIN:VEVENT
DTSTART;TZID=Europe/Bucharest:20260629T080000
DTEND;TZID=Europe/Bucharest:20260630T170000
DTSTAMP:20260417T080107
CREATED:20260323T092127Z
LAST-MODIFIED:20260323T092127Z
UID:8492-1782720000-1782838800@sibcr.ro
SUMMARY:Comitet European de Întreprindere – Erste Group
DESCRIPTION:Comitet European de Întreprindere – Erste Group
URL:https://sibcr.ro/event/comitet-european-de-intreprindere-erste-group-4/
END:VEVENT
END:VCALENDAR